BEGIN:VCALENDAR
VERSION:2.0
LAST-MODIFIED;TZID=Europe/Berlin:20260425T034455
PRODID:-//Seminarmanagementtool//Event-Calendar//EN
BEGIN:VTIMEZONE
TZID:Europe/Berlin
X-LIC-LOCATION:Europe/Berlin
BEGIN:DAYLIGHT
TZOFFSETFROM:+0100
TZOFFSETTO:+0200
DTSTART:19810329T030000
RRULE:FREQ=YEARLY;INTERVAL=1;BYMONTH=3;BYDAY=-1SU
END:DAYLIGHT
BEGIN:STANDARD
TZOFFSETFROM:+0200
TZOFFSETTO:+0100
DTSTART:19961027T030000
RRULE:FREQ=YEARLY;INTERVAL=1;BYMONTH=10;BYDAY=-1SU
END:STANDARD
END:VTIMEZONE
X-MS-OLK-FORCEINSPECTOROPEN:TRUE
BEGIN:VEVENT
UID:3482-id-21-05-2026
STATUS:CONFIRMED
DTSTART;TZID=Europe/Berlin:20260521T090000
DTEND;TZID=Europe/Berlin:20260521T150000
DTSTAMP:20260425T034455Z
SUMMARY:KDO-Anwendertreffen KDO-DMS&more - Landkreise
LOCATION:KDO Standort Drei Höfe, Rosenstr. 2-4, 26122 Oldenburg
DESCRIPTION:Die kostenfreie Veranstaltung „KDO-Anwendertreffen KDO-DMS&more – Landkreise“ richtet sich an alle Kunden, die KDO-DMS&more bereits im Einsatz haben.  Was erwartet Sie?Hier dreht sich alles um Ihre Erfahrungen, Herausforderungen und Lösungen – ob Best Practices, Kniffe im Arbeitsalltag oder Ideen für die Zukunft. Die Tagesordnung steht noch nicht fest und das ist Absicht! Sie kennen die Themen, die Sie bewegen. Deshalb laden wir Sie herzlich ein, Ihre Vorschläge für Agendapunkte einzubringen.   Mögliche Themen sind beispielsweise:    Scanlösungen / Erweiterungen zu TR-RESISCAN  Neues zu nscale eGov Web  Tutorials mit Readyplace  Volltexterstellung mit nscale OCR  sowie weitere Themen aus Ihrem Arbeitsalltag    Stimmen Sie hier bis zum 30.03.2026 18:00 Uhr ab:https://app.tedme.com?pin=KDOAnwendertreffenKDODMSSONSTIGE  Darüber hinaus wird ausreichend Raum für fachlichen Austausch und Vernetzung mit anderen Kommunen eingeplant.  Weitere Details zur Agenda folgen.
X-ALT-DESC;FMTTYPE=text/html:<p data-start="210" data-end="494">Die kostenfreie Veranstaltung <strong data-start="240" data-end="329">„KDO-Anwendertreffen KDO-DMS&more – Landkreise“</strong> richtet sich an alle Kunden, die <strong data-start="452" data-end="493">KDO-DMS&more bereits im Einsatz haben</strong>.</p>  <p class="MsoPlainText"><span style="mso-bidi-font-size: 11.0pt; font-family: 'Aptos',serif; mso-ascii-theme-font: minor-latin; mso-hansi-theme-font: minor-latin;"><strong>Was erwartet Sie?</strong><br>Hier dreht sich alles um Ihre Erfahrungen, Herausforderungen und Lösungen – ob Best Practices, Kniffe im Arbeitsalltag oder Ideen für die Zukunft. Die Tagesordnung steht noch nicht fest und das ist Absicht! Sie kennen die Themen, die Sie bewegen. Deshalb laden wir Sie herzlich ein, Ihre Vorschläge für Agendapunkte einzubringen. </span></p>  <p data-start="1009" data-end="1045">Mögliche Themen sind beispielsweise:</p>  <ul>  <li data-start="1254" data-end="1367">Scanlösungen / Erweiterungen zu <strong data-start="1080" data-end="1095">TR-RESISCAN</strong></li>  <li data-start="1254" data-end="1367">Neues zu <strong data-start="1109" data-end="1128">nscale eGov Web</strong></li>  <li data-start="1254" data-end="1367">Tutorials mit <strong data-start="1147" data-end="1161">Readyplace</strong></li>  <li data-start="1254" data-end="1367">Volltexterstellung mit <strong data-start="1189" data-end="1203">nscale OCR</strong></li>  <li data-start="1254" data-end="1367">sowie weitere Themen aus Ihrem Arbeitsalltag</li>  </ul>  <p>Stimmen Sie hier <strong>bis zum 30.03.2026 18:00 Uhr</strong> ab:<br><a title="DMS&more-LK-Themenabfrage" href="https://app.tedme.com?pin=KDOAnwendertreffenKDODMSLK" target="_blank" rel="noopener">https://app.tedme.com?pin=KDOAnwendertreffenKDODMSSONSTIGE</a></p>  <p data-start="1254" data-end="1367">Darüber hinaus wird ausreichend Raum für <strong data-start="1295" data-end="1355">fachlichen Austausch und Vernetzung mit anderen Kommunen</strong> eingeplant.</p>  <p data-start="1483" data-end="1521"><strong data-start="1483" data-end="1521">Weitere Details zur Agenda folgen.</strong></p>
END:VEVENT
END:VCALENDAR