BEGIN:VCALENDAR
VERSION:2.0
LAST-MODIFIED;TZID=Europe/Berlin:20260423T050226
PRODID:-//Seminarmanagementtool//Event-Calendar//EN
BEGIN:VTIMEZONE
TZID:Europe/Berlin
X-LIC-LOCATION:Europe/Berlin
BEGIN:DAYLIGHT
TZOFFSETFROM:+0100
TZOFFSETTO:+0200
DTSTART:19810329T030000
RRULE:FREQ=YEARLY;INTERVAL=1;BYMONTH=3;BYDAY=-1SU
END:DAYLIGHT
BEGIN:STANDARD
TZOFFSETFROM:+0200
TZOFFSETTO:+0100
DTSTART:19961027T030000
RRULE:FREQ=YEARLY;INTERVAL=1;BYMONTH=10;BYDAY=-1SU
END:STANDARD
END:VTIMEZONE
X-MS-OLK-FORCEINSPECTOROPEN:TRUE
BEGIN:VEVENT
UID:3483-id-28-04-2026
STATUS:CONFIRMED
DTSTART;TZID=Europe/Berlin:20260428T100000
DTEND;TZID=Europe/Berlin:20260428T113000
DTSTAMP:20260423T050226Z
SUMMARY:Präsentation: P&I LOGA Zeitmanagement
LOCATION:
DESCRIPTION:Verabschieden Sie sich von komplexen Prozessen und manuellen Listen. In unserer kompakten Online-Präsentation zeigen wir Ihnen, wie Sie mit dem P&I LOGA Modul Zeitmanagement Ihre Personalprozesse nicht nur digitalisieren, sondern spürbar optimieren. Erleben Sie, wie Zeitdaten fließen – von der Erfassung über die automatisierte Verarbeitung bis hin zur fertigen Auswertung. Wir werfen einen praxisnahen Blick darauf, wie intelligente Automatismen Ihren Arbeitsalltag entlasten.  Zielgruppe:Diese Präsentation richtet sich an alle LOGA-Kunden der KDO, die überlegen zukünftig das Modul Zeitmanagement einzuführen. Der Termin ist ebenfalls für Mitarbeiter*innen-Vertretungen, Gleichstellungsbeauftragte sowie Datenschützer*innen geeignet.   Voraussetzungen/ Benötigter Wissensstand:LOGA im Rechenzentrumsbetrieb bei der KDO.   Inhalte:    Nahtlose Integration: So wird das Zeitmanagement zum integralen Bestandteil Ihrer HR-Datenbank.  Transparenz in Echtzeit: Zeitkonten und Urlaubssalden jederzeit aktuell im Blick.  Automatisierung mit System: Von der Urlaubsermittlung bis zur Berechnung komplexer Bereitschaftsentgelte.  Sicherheit bei Korrekturen: Wie die Rückrechenfähigkeit Ihnen den Rücken freihält.  Win-Win für alle: Die konkreten Vorteile für Ihre Personalabteilung und Ihre Mitarbeiter*innen.    Zur Teilnahme an der Online-Veranstaltung sind folgende Komponenten erforderlich: - Windows- oder Mac-Computer - Internetverbindung - Telefon oder ein Headset 
X-ALT-DESC;FMTTYPE=text/html:<p><span style="font-size: 11.0pt; font-family: 'Calibri',sans-serif; mso-fareast-font-family: Aptos; mso-fareast-theme-font: minor-latin; mso-ansi-language: DE; mso-fareast-language: EN-US; mso-bidi-language: AR-SA;">Verabschieden Sie sich von komplexen Prozessen und manuellen Listen. In unserer kompakten Online-Präsentation zeigen wir Ihnen, wie Sie mit dem P&I LOGA Modul Zeitmanagement Ihre Personalprozesse nicht nur digitalisieren, sondern spürbar optimieren. Erleben Sie, wie Zeitdaten fließen – von der Erfassung über die automatisierte Verarbeitung bis hin zur fertigen Auswertung. Wir werfen einen praxisnahen Blick darauf, wie intelligente Automatismen Ihren Arbeitsalltag entlasten.<br style="mso-special-character: line-break;"><!--[endif]--></span></p>  <p><strong>Zielgruppe:<br></strong><span style="font-size: 11.0pt; font-family: 'Calibri',sans-serif; mso-fareast-language: EN-US;">Diese Präsentation richtet sich an alle LOGA-Kunden der KDO, die überlegen zukünftig das Modul Zeitmanagement einzuführen. Der Termin ist ebenfalls für Mitarbeiter*innen-Vertretungen, Gleichstellungsbeauftragte sowie Datenschützer*innen geeignet. </span></p>  <p><strong>Voraussetzungen/ Benötigter Wissensstand:</strong><br>LOGA im Rechenzentrumsbetrieb bei der KDO. </p>  <p><strong>Inhalte:</strong></p>  <ul>  <li class="MsoListParagraph" style="margin-left: 0cm; mso-list: l0 level1 lfo1;"><span style="font-size: 11.0pt; font-family: 'Calibri',sans-serif; mso-fareast-font-family: 'Times New Roman';">Nahtlose Integration: So wird das Zeitmanagement zum integralen Bestandteil Ihrer HR-Datenbank.</span></li>  <li class="MsoListParagraph" style="margin-left: 0cm; mso-list: l0 level1 lfo1;"><span style="font-size: 11.0pt; font-family: 'Calibri',sans-serif; mso-fareast-font-family: 'Times New Roman';">Transparenz in Echtzeit: Zeitkonten und Urlaubssalden jederzeit aktuell im Blick.</span></li>  <li class="MsoListParagraph" style="margin-left: 0cm; mso-list: l0 level1 lfo1;"><span style="font-size: 11.0pt; font-family: 'Calibri',sans-serif; mso-fareast-font-family: 'Times New Roman';">Automatisierung mit System: Von der Urlaubsermittlung bis zur Berechnung komplexer Bereitschaftsentgelte.</span></li>  <li class="MsoListParagraph" style="margin-left: 0cm; mso-list: l0 level1 lfo1;"><span style="font-size: 11.0pt; font-family: 'Calibri',sans-serif; mso-fareast-font-family: 'Times New Roman';">Sicherheit bei Korrekturen: Wie die Rückrechenfähigkeit Ihnen den Rücken freihält.</span></li>  <li class="MsoListParagraph" style="margin-left: 0cm; mso-list: l0 level1 lfo1;"><span style="font-size: 11.0pt; font-family: 'Calibri',sans-serif; mso-fareast-font-family: 'Times New Roman';">Win-Win für alle: Die konkreten Vorteile für Ihre Personalabteilung und Ihre Mitarbeiter*innen.</span></li>  </ul>  <p>Zur Teilnahme an der Online-Veranstaltung sind folgende Komponenten erforderlich: <br>- Windows- oder Mac-Computer <br>- Internetverbindung <br>- Telefon oder ein Headset </p>
END:VEVENT
END:VCALENDAR